BEGIN:VCALENDAR
VERSION:2.0
PRODID:-//Longwood Historic Society - ECPv6.14.2//NONSGML v1.0//EN
CALSCALE:GREGORIAN
METHOD:PUBLISH
X-WR-CALNAME:Longwood Historic Society
X-ORIGINAL-URL:https://historiclongwood.com
X-WR-CALDESC:Events for Longwood Historic Society
REFRESH-INTERVAL;VALUE=DURATION:PT1H
X-Robots-Tag:noindex
X-PUBLISHED-TTL:PT1H
BEGIN:VTIMEZONE
TZID:America/New_York
BEGIN:DAYLIGHT
TZOFFSETFROM:-0500
TZOFFSETTO:-0400
TZNAME:EDT
DTSTART:20230312T070000
END:DAYLIGHT
BEGIN:STANDARD
TZOFFSETFROM:-0400
TZOFFSETTO:-0500
TZNAME:EST
DTSTART:20231105T060000
END:STANDARD
BEGIN:DAYLIGHT
TZOFFSETFROM:-0500
TZOFFSETTO:-0400
TZNAME:EDT
DTSTART:20240310T070000
END:DAYLIGHT
BEGIN:STANDARD
TZOFFSETFROM:-0400
TZOFFSETTO:-0500
TZNAME:EST
DTSTART:20241103T060000
END:STANDARD
END:VTIMEZONE
BEGIN:VEVENT
DTSTART;TZID=America/New_York:20241021T190000
DTEND;TZID=America/New_York:20241021T200000
DTSTAMP:20260422T053511
CREATED:20240723T111738Z
LAST-MODIFIED:20240723T111738Z
UID:2044-1729537200-1729540800@historiclongwood.com
SUMMARY:Monster Dash Committee
DESCRIPTION:Monster Dash Committee\nMonday\, October 21 · 7:00 – 8:00pm\nTime zone: America/New_York\nGoogle Meet joining info\nVideo call link: https://meet.google.com/zid-wskc-xvd
URL:https://historiclongwood.com/event/monster-dash-committee-3/
LOCATION:Virtual (Video Conference)
CATEGORIES:Committee
END:VEVENT
BEGIN:VEVENT
DTSTART;TZID=America/New_York:20241014T183000
DTEND;TZID=America/New_York:20241014T200000
DTSTAMP:20260422T053511
CREATED:20240709T215449Z
LAST-MODIFIED:20240709T215449Z
UID:1887-1728930600-1728936000@historiclongwood.com
SUMMARY:Executive Board - October 2024
DESCRIPTION:Monthly executive board meeting\, held remotely. The executive board is made up the the five officers. However\, any member is welcome to attend. Email us if you’d like to attend\, and we’ll provide the video conference link.
URL:https://historiclongwood.com/event/executive-board-october-2024/
LOCATION:Virtual (Video Conference)
CATEGORIES:Executive Board,Meetings
END:VEVENT
BEGIN:VEVENT
DTSTART;TZID=America/New_York:20241012T170000
DTEND;TZID=America/New_York:20241012T200000
DTSTAMP:20260422T053511
CREATED:20240703T131837Z
LAST-MODIFIED:20240703T131837Z
UID:1861-1728752400-1728763200@historiclongwood.com
SUMMARY:Car Show - October 2024
DESCRIPTION:If you’d like to volunteer at our food concessions\, sign up:\nhttps://www.signupgenius.com/go/10C0E48AAA82EA0F9C70-monthly \nThe event is open to the public and always has a great turnout of class car enthusiasts.
URL:https://historiclongwood.com/event/car-show-october-2024/
LOCATION:Longwood Historic District\, 175 W Warren Ave\, Longwood\, FL\, 32750\, United States
CATEGORIES:Car Show,Fundraisers
ATTACH;FMTTYPE=image/jpeg:https://historiclongwood.com/wp-content/uploads/2023/11/car-show.jpg
END:VEVENT
BEGIN:VEVENT
DTSTART;TZID=America/New_York:20240916T190000
DTEND;TZID=America/New_York:20240916T200000
DTSTAMP:20260422T053511
CREATED:20240723T111653Z
LAST-MODIFIED:20240723T111653Z
UID:2042-1726513200-1726516800@historiclongwood.com
SUMMARY:Monster Dash Committee
DESCRIPTION:Monster Dash Committee\nMonday\, September 16 · 7:00 – 8:00pm\nTime zone: America/New_York\nGoogle Meet joining info\nVideo call link: https://meet.google.com/zid-wskc-xvd
URL:https://historiclongwood.com/event/monster-dash-committee-2/
LOCATION:Virtual (Video Conference)
CATEGORIES:Committee
END:VEVENT
BEGIN:VEVENT
DTSTART;TZID=America/New_York:20240915T140000
DTEND;TZID=America/New_York:20240915T160000
DTSTAMP:20260422T053511
CREATED:20240709T011144Z
LAST-MODIFIED:20240907T134652Z
UID:1868-1726408800-1726416000@historiclongwood.com
SUMMARY:Fall General Member Meeting
DESCRIPTION:Please join us for our fall meeting. \n\n2:00 – Snacks/Drinks Reception\n2:10 – Welcome & Introductions\n2:15 – Historic Presentation – “Booze and Bolita” by Jason Byrne\n2:45 – Intermission/Break\n3:00 – Business Meeting – Agenda\n4:00 – Meeting adjournment\n\nPrevious Meeting Minutes \nProposed By-Laws (to be voted on) \nFacebook Event \nTopics\nHere are just a few of the topics on tap. See the agenda for more. Email us if you want to add anything. \n \nBooze and Bolita Presentation \nOver the summer\, Jason Byrne spoke at the Longwood Public Library on this topic. He will reprise an abbreviated version of that presentation for us. It will discuss the business and bosses of organized crime in Central Florida\, focusing on the 1950s through the 1970s. \n  \n \nLewis House News \nWe are discussing ways to save this house with the City of Longwood. We are exploring restoration options\, costs\, and potential locations within the historic/Reiter Park district to give it a permanent home and community function. Find out more at the meeting. \n \nProposed By-Laws \nYes\, I know by-laws are boring\, but they’re also necessary! At the last meeting\, we introduced the proposed new by-laws. We will call for a motion to approve them at this meeting. They will help modernize our governing document. The committee worked hard on simplification\, updates\, and removing antiquated parts. Read the document… \n \nMonster Dash Aims for Big $$ \nWe have some big goals ahead of us\, and the Monster Dash 5K is our largest fundraiser of the year. Our team has been working hard to make it the best ever. We think it’s going to be a record year for participants and sponsors. We’ll provide an update and let you know how you can help make it a success next month.
URL:https://historiclongwood.com/event/fall-general-member-meeting/
LOCATION:Historic Civic Center\, 135 W Church Ave\, Longwood\, 32750\, United States
CATEGORIES:General Meeting,Meetings
ATTACH;FMTTYPE=image/jpeg:https://historiclongwood.com/wp-content/uploads/2024/07/Member-meeting.jpg
END:VEVENT
BEGIN:VEVENT
DTSTART;TZID=America/New_York:20240914T170000
DTEND;TZID=America/New_York:20240914T200000
DTSTAMP:20260422T053511
CREATED:20240703T131741Z
LAST-MODIFIED:20240703T131741Z
UID:1859-1726333200-1726344000@historiclongwood.com
SUMMARY:Car Show - September 2024
DESCRIPTION:If you’d like to volunteer at our food concessions\, sign up:\nhttps://www.signupgenius.com/go/10C0E48AAA82EA0F9C70-monthly \nThe event is open to the public and always has a great turnout of class car enthusiasts.
URL:https://historiclongwood.com/event/car-show-september-2024/
LOCATION:Longwood Historic District\, 175 W Warren Ave\, Longwood\, FL\, 32750\, United States
CATEGORIES:Car Show,Fundraisers
ATTACH;FMTTYPE=image/jpeg:https://historiclongwood.com/wp-content/uploads/2023/11/car-show.jpg
END:VEVENT
BEGIN:VEVENT
DTSTART;TZID=America/New_York:20240909T183000
DTEND;TZID=America/New_York:20240909T200000
DTSTAMP:20260422T053511
CREATED:20240709T215353Z
LAST-MODIFIED:20240909T124235Z
UID:1885-1725906600-1725912000@historiclongwood.com
SUMMARY:Executive Board - September 2024
DESCRIPTION:The executive board meets monthly and is held remotely. The five officers comprise the executive board\, but any member is welcome to attend. \nVideo Conference \nVideo call link: https://meet.google.com/ojh-xzxk-kpf\nOr dial: ‪(US) +1 260-218-1635‬ PIN: ‪727 645 980‬#
URL:https://historiclongwood.com/event/executive-board-september-2024/
LOCATION:Virtual (Video Conference)
CATEGORIES:Executive Board,Meetings
END:VEVENT
BEGIN:VEVENT
DTSTART;TZID=America/New_York:20240819T190000
DTEND;TZID=America/New_York:20240819T200000
DTSTAMP:20260422T053511
CREATED:20240723T111608Z
LAST-MODIFIED:20240723T111608Z
UID:2040-1724094000-1724097600@historiclongwood.com
SUMMARY:Monster Dash Committee
DESCRIPTION:Monster Dash Committee\nMonday\, August 19 · 7:00 – 8:00pm\nTime zone: America/New_York\nGoogle Meet joining info\nVideo call link: https://meet.google.com/zid-wskc-xvd
URL:https://historiclongwood.com/event/monster-dash-committee/
LOCATION:Virtual (Video Conference)
CATEGORIES:Committee
END:VEVENT
BEGIN:VEVENT
DTSTART;TZID=America/New_York:20240818T130000
DTEND;TZID=America/New_York:20240818T210000
DTSTAMP:20260422T053511
CREATED:20240803T193255Z
LAST-MODIFIED:20240804T145541Z
UID:2107-1723986000-1724014800@historiclongwood.com
SUMMARY:Ice Cream Social & Fundraiser
DESCRIPTION:Indulge in Sweet Treats and Support History!\nJoin us for a delightful day of ice cream and community! On Sunday\, August 18th\, between 1 and 9 PM\, we’ll be scooping up smiles and raising funds for the Historic Society. If you mention “Longwood Historic Society\,” a portion of your purchase will benefit preserving our local heritage. \nMake it a Member Mixer!\nMembers (and prospective members)\, we encourage you to attend a social gathering between 4 and 6 PM. Mingle with local history enthusiasts and get to know your fellow members in a laid-back setting. Don’t forget to bring a friend—everyone is welcome! We’ll have an information table set up so you can learn more about the Society. \nLet’s cool down and make a difference together! \n \nNan & Pops Ice Cream Shop\n351 N Ronald Reagan Blvd\nLongwood\, FL 32750 \nFacebook Event Page \n 
URL:https://historiclongwood.com/event/ice-cream-social-fundraiser/
LOCATION:Nan & Pop’s Ice Cream Shop\, 51 N Ronald Reagan Blvd\, Longwood\, FL\, 32750\, United States
CATEGORIES:Community,Fundraisers,Social
ATTACH;FMTTYPE=image/jpeg:https://historiclongwood.com/wp-content/uploads/2024/08/nan-and-pops-ice-cream.jpg
END:VEVENT
BEGIN:VEVENT
DTSTART;TZID=America/New_York:20240812T183000
DTEND;TZID=America/New_York:20240812T200000
DTSTAMP:20260422T053511
CREATED:20240709T215312Z
LAST-MODIFIED:20240806T132251Z
UID:1883-1723487400-1723492800@historiclongwood.com
SUMMARY:Executive Board - August 2024
DESCRIPTION:The executive board meets monthly\, held remotely. The five officers make up the executive board\, but any member is welcome to attend. \n\nAgenda\nVideo Conference Link\nPrevious Minutes
URL:https://historiclongwood.com/event/executive-board-august-2024/
LOCATION:Virtual (Video Conference)
CATEGORIES:Executive Board,Meetings
END:VEVENT
BEGIN:VEVENT
DTSTART;TZID=America/New_York:20240810T170000
DTEND;TZID=America/New_York:20240810T200000
DTSTAMP:20260422T053511
CREATED:20240703T131625Z
LAST-MODIFIED:20240703T131647Z
UID:1857-1723309200-1723320000@historiclongwood.com
SUMMARY:Car Show - August 2024
DESCRIPTION:If you’d like to volunteer at our food concessions\, sign up:\nhttps://www.signupgenius.com/go/10C0E48AAA82EA0F9C70-monthly \nThe event is open to the public and always has a great turnout of class car enthusiasts.
URL:https://historiclongwood.com/event/car-show-august-2024/
LOCATION:Longwood Historic District\, 175 W Warren Ave\, Longwood\, FL\, 32750\, United States
CATEGORIES:Car Show,Fundraisers
ATTACH;FMTTYPE=image/jpeg:https://historiclongwood.com/wp-content/uploads/2023/11/car-show.jpg
END:VEVENT
BEGIN:VEVENT
DTSTART;TZID=America/New_York:20240729T190000
DTEND;TZID=America/New_York:20240729T200000
DTSTAMP:20260422T053511
CREATED:20240723T111010Z
LAST-MODIFIED:20240723T111010Z
UID:2038-1722279600-1722283200@historiclongwood.com
SUMMARY:Education & Media Committee
DESCRIPTION:Education + Media Committee\nMonday\, July 29 · 7:00 – 8:00pm\nTime zone: America/New_York\nGoogle Meet joining info\nVideo call link: https://meet.google.com/oqs-ssai-afc\nOr dial: ‪(US) +1 570-658-9277‬ PIN: ‪853 980 702‬#\nMore phone numbers: https://tel.meet/oqs-ssai-afc?pin=1674202177248
URL:https://historiclongwood.com/event/education-media-committee/
LOCATION:Virtual (Video Conference)
CATEGORIES:Committee
END:VEVENT
BEGIN:VEVENT
DTSTART;TZID=America/New_York:20240727T140000
DTEND;TZID=America/New_York:20240727T150000
DTSTAMP:20260422T053511
CREATED:20240723T125329Z
LAST-MODIFIED:20240723T125329Z
UID:2053-1722088800-1722092400@historiclongwood.com
SUMMARY:Booze & Bolita: Organized Crime in Central Florida
DESCRIPTION:Longwood Historic Society president\, Jason Byrne\, will present at the public library branch in Hunt Club. \nWe’ll explore the rise and reign of Harlan Blackburn\, the local mafia boss who led an empire of vice\, violence\, and corruption. We’ll discover the web of illegal liquor\, drugs\, gambling\, and murder that gripped the region for decades.
URL:https://historiclongwood.com/event/booze-bolita-organized-crime-in-central-florida/
LOCATION:Seminole County Public Library\, Hunt Club\, 245 N Hunt Club Blvd\, Longwood\, FL\, 32779\, United States
CATEGORIES:Community
ATTACH;FMTTYPE=image/jpeg:https://historiclongwood.com/wp-content/uploads/2024/07/Booze-and-Bolita.jpg
END:VEVENT
BEGIN:VEVENT
DTSTART;TZID=America/New_York:20240715T190000
DTEND;TZID=America/New_York:20240715T200000
DTSTAMP:20260422T053511
CREATED:20240710T175011Z
LAST-MODIFIED:20240710T175224Z
UID:1894-1721070000-1721073600@historiclongwood.com
SUMMARY:Committee Meeting: Monster Dash
DESCRIPTION:Video call link: https://meet.google.com/uau-rkhv-kzs\nOr dial: ‪(US) +1 401-315-8481‬ PIN: ‪333 716 854‬#
URL:https://historiclongwood.com/event/committee-meeting-monster-dash/
LOCATION:Virtual (Video Conference)
CATEGORIES:Committee
END:VEVENT
BEGIN:VEVENT
DTSTART;TZID=America/New_York:20240713T170000
DTEND;TZID=America/New_York:20240713T200000
DTSTAMP:20260422T053511
CREATED:20240530T001010Z
LAST-MODIFIED:20240530T001010Z
UID:1705-1720890000-1720900800@historiclongwood.com
SUMMARY:Longwood Car Show - July 2024
DESCRIPTION:If you’d like to volunteer at our food concessions\, sign up:\nhttps://www.signupgenius.com/go/10C0E48AAA82EA0F9C70-monthly \nThe event is open to the public and always has a great turnout of class car enthusiasts.
URL:https://historiclongwood.com/event/longwood-car-show-july-2024/
LOCATION:Historic Civic Center\, 135 W Church Ave\, Longwood\, 32750\, United States
CATEGORIES:Car Show,Community,Fundraisers
ATTACH;FMTTYPE=image/jpeg:https://historiclongwood.com/wp-content/uploads/2023/11/car-show.jpg
END:VEVENT
BEGIN:VEVENT
DTSTART;TZID=America/New_York:20240708T183000
DTEND;TZID=America/New_York:20240708T200000
DTSTAMP:20260422T053511
CREATED:20240703T131253Z
LAST-MODIFIED:20240703T173034Z
UID:1852-1720463400-1720468800@historiclongwood.com
SUMMARY:Executive Board Meeting - July 2024
DESCRIPTION:The board will meet via video conference. Executive Board meetings are open to all members. \nRelated Links: \n\nAgenda\nPrevious Minutes\nGoogle Meet Link
URL:https://historiclongwood.com/event/executive-board-meeting/
LOCATION:Virtual (Video Conference)
END:VEVENT
BEGIN:VEVENT
DTSTART;TZID=America/New_York:20240623T140000
DTEND;TZID=America/New_York:20240623T160000
DTSTAMP:20260422T053511
CREATED:20240420T191942Z
LAST-MODIFIED:20240619T005914Z
UID:1605-1719151200-1719158400@historiclongwood.com
SUMMARY:Member Meeting\, Officer Elections\, and Potluck
DESCRIPTION:On Sunday\, July 23rd\, we will host our Summer Meeting. We will host an election of new officers\, including the President and a trustee. \nIt’s also our annual Potluck! Bring a covered dish or dessert if you can\, but is not required. \nRSVP to our Hospitality Committee chair\, Pam Redditt\, by calling 407-834-7220 or emailing thecottagegiftshop@gmail.com. Please let her know you are coming and if you plan to bring a dish. This allows us to have enough tables set up and ensures we have a variety of food\, drinks\, and dessert.
URL:https://historiclongwood.com/event/member-meeting-officer-elections-and-potluck/
LOCATION:Historic Civic Center\, 135 W Church Ave\, Longwood\, 32750\, United States
CATEGORIES:General Meeting,Meetings
ATTACH;FMTTYPE=image/jpeg:https://historiclongwood.com/wp-content/uploads/2024/04/Veggie-Plate-scaled.jpg
END:VEVENT
BEGIN:VEVENT
DTSTART;TZID=America/New_York:20240622T100000
DTEND;TZID=America/New_York:20240622T110000
DTSTAMP:20260422T053511
CREATED:20240526T232808Z
LAST-MODIFIED:20240530T000535Z
UID:1663-1719050400-1719054000@historiclongwood.com
SUMMARY:Historic Walking Tour
DESCRIPTION:Learn about Longwood’s history as we stroll through the historic district for one hour. We will meet behind the amphitheater at Rieter Park and start the tour promptly at 10 AM. \nTickets are FREE\, but please reserve your slot. You may add an optional donation at checkout or in-person that morning. \nReserve Your Spot
URL:https://historiclongwood.com/event/historic-walking-tour/
LOCATION:Reiter Park\, 311 W Warren Ave\, Longwood\, FL\, 32750\, United States
CATEGORIES:Community,Walking Tour
ATTACH;FMTTYPE=image/jpeg:https://historiclongwood.com/wp-content/uploads/2024/05/Historic-Longwood-Walking-Tour.jpg
END:VEVENT
BEGIN:VEVENT
DTSTART;TZID=America/New_York:20240612T183000
DTEND;TZID=America/New_York:20240612T200000
DTSTAMP:20260422T053511
CREATED:20240603T125828Z
LAST-MODIFIED:20240603T125828Z
UID:1714-1718217000-1718222400@historiclongwood.com
SUMMARY:Board Meeting
DESCRIPTION:Board of directors meetings are open to all members to attend. Only board members may vote.
URL:https://historiclongwood.com/event/board-meeting/
LOCATION:Historic Civic Center\, 135 W Church Ave\, Longwood\, 32750\, United States
CATEGORIES:Executive Board,Meetings
END:VEVENT
BEGIN:VEVENT
DTSTART;TZID=America/New_York:20240608T170000
DTEND;TZID=America/New_York:20240608T200000
DTSTAMP:20260422T053511
CREATED:20240529T234138Z
LAST-MODIFIED:20240529T234451Z
UID:1696-1717866000-1717876800@historiclongwood.com
SUMMARY:Longwood Car Show - June 2024
DESCRIPTION:If you’d like to volunteer at our food concessions\, sign up: \nhttps://www.signupgenius.com/go/10C0E48AAA82EA0F9C70-monthly \n  \nThe event is open to the public and always has a great turnout of class car enthusiasts.
URL:https://historiclongwood.com/event/longwood-car-show/
LOCATION:Historic Civic Center\, 135 W Church Ave\, Longwood\, 32750\, United States
CATEGORIES:Car Show,Community,Fundraisers
ATTACH;FMTTYPE=image/jpeg:https://historiclongwood.com/wp-content/uploads/2023/11/car-show.jpg
END:VEVENT
BEGIN:VEVENT
DTSTART;TZID=America/New_York:20240525T150000
DTEND;TZID=America/New_York:20240525T210000
DTSTAMP:20260422T053511
CREATED:20231118T232753Z
LAST-MODIFIED:20240415T183045Z
UID:1292-1716649200-1716670800@historiclongwood.com
SUMMARY:Longwood Poker Tournament
DESCRIPTION:Our third annual poker tournament will be held on May 25th in Downtown Longwood. We’ll have fabulous food\, a full bar\, prize money\, a raffle\, a silent auction\, and door prizes. Join us for this fun evening and reserve your seat now. \nSign Up Now \nLocation\nLongwood Community Building\n200 W Warren Ave\nLongwood\, FL 32750 US
URL:https://historiclongwood.com/event/longwood-poker-tournament/
LOCATION:Longwood Community Building\, 200 W Warren Ave\, Longwood\, FL\, 32750\, United States
CATEGORIES:Fundraisers
ATTACH;FMTTYPE=image/jpeg:https://historiclongwood.com/wp-content/uploads/2023/11/Poker-Aces.jpg
END:VEVENT
BEGIN:VEVENT
DTSTART;TZID=America/New_York:20240210T160000
DTEND;TZID=America/New_York:20240210T200000
DTSTAMP:20260422T053511
CREATED:20231118T233511Z
LAST-MODIFIED:20231118T233511Z
UID:1299-1707580800-1707595200@historiclongwood.com
SUMMARY:Car Show - February 2024
DESCRIPTION:Monthly car show in Historic Longwood. \nVolunteer
URL:https://historiclongwood.com/event/car-show-february-2024/
LOCATION:Historic Civic Center\, 135 W Church Ave\, Longwood\, 32750\, United States
CATEGORIES:Fundraisers
ATTACH;FMTTYPE=image/jpeg:https://historiclongwood.com/wp-content/uploads/2023/11/car-show.jpg
END:VEVENT
BEGIN:VEVENT
DTSTART;TZID=America/New_York:20240113T160000
DTEND;TZID=America/New_York:20240113T200000
DTSTAMP:20260422T053511
CREATED:20231118T233119Z
LAST-MODIFIED:20231118T233119Z
UID:1296-1705161600-1705176000@historiclongwood.com
SUMMARY:Car Show - January 2024
DESCRIPTION:Monthly car show in Historic Longwood. \nVolunteer
URL:https://historiclongwood.com/event/car-show-january-2024/
LOCATION:Historic Civic Center\, 135 W Church Ave\, Longwood\, 32750\, United States
CATEGORIES:Fundraisers
ATTACH;FMTTYPE=image/jpeg:https://historiclongwood.com/wp-content/uploads/2023/11/car-show.jpg
END:VEVENT
BEGIN:VEVENT
DTSTART;TZID=America/New_York:20231216T100000
DTEND;TZID=America/New_York:20231216T140000
DTSTAMP:20260422T053511
CREATED:20231120T133723Z
LAST-MODIFIED:20231120T134147Z
UID:1326-1702720800-1702735200@historiclongwood.com
SUMMARY:7 Foot Santa
DESCRIPTION:We will once again welcome children to meet 7-Foot Santa (City Commissioner\, Matt Morgan) at the historic Bradlee-McIntyre House. Each family will get a reserved five-minute time slot with Santa. These slots are first come\, first serve… so once they’re gone\, they’re gone! Families should arrive at least 15 minutes before their prescribed slot. Before you meet Santa\, you will be ushered through a couple of activity stations to prepare for your meeting. \nOnce you come into the main room to see Santa on his throne chair\, you will have ample opportunity to take photos with the big guy. \nThe event is free but a donation to the Historic Society is encouraged. \nReserve your slot
URL:https://historiclongwood.com/event/7-foot-santa-2023/
LOCATION:Bradlee-McIntyre House\, 130 W Warren Ave\, Longwood\, FL\, 32750\, United States
CATEGORIES:Community
ATTACH;FMTTYPE=image/png:https://historiclongwood.com/wp-content/uploads/2023/11/Seven-Foot-Santa.png
END:VEVENT
BEGIN:VEVENT
DTSTART;TZID=America/New_York:20231209T160000
DTEND;TZID=America/New_York:20231209T200000
DTSTAMP:20260422T053511
CREATED:20231105T162207Z
LAST-MODIFIED:20231105T162244Z
UID:233-1702137600-1702152000@historiclongwood.com
SUMMARY:Car Show - December 2023
DESCRIPTION:Monthly car show in Historic Longwood. \nVolunteer
URL:https://historiclongwood.com/event/car-show-december-2023/
LOCATION:Historic Civic Center\, 135 W Church Ave\, Longwood\, 32750\, United States
CATEGORIES:Fundraisers
ATTACH;FMTTYPE=image/jpeg:https://historiclongwood.com/wp-content/uploads/2023/11/car-show.jpg
END:VEVENT
BEGIN:VEVENT
DTSTART;TZID=America/New_York:20231125T160000
DTEND;TZID=America/New_York:20231125T190000
DTSTAMP:20260422T053511
CREATED:20231112T145131Z
LAST-MODIFIED:20240530T000544Z
UID:1192-1700928000-1700938800@historiclongwood.com
SUMMARY:Carols & Cocoa: Yuletide in Historic Longwood
DESCRIPTION:Let’s kick off the holiday season in Historic Longwood. On our walking tour\, we will not only learn about our buildings from the 1800s but go inside! We will have a free hot cocoa and apple cider reception at the HCC\, followed by a lighting ceremony of the city’s new tree on 427. Finally\, we will cap the event with old-fashioned Christmas caroling to our neighbors in the Historic District.\n\nWalking tour stops will be at the Bradlee-McIntyre Museum\, Longwood Inn\, Inside-Outside House\, Historic Civic Center\, Henck House\, and Le Rue House\n\nSchedule\n\n\n4 PM – Historic “Open House” Guided Walking Tour.\n5 PM – Hot Cocoa and Apple Cider Reception\n5:30 PM – Tree Lighting Ceremony\n5:45 PM – Christmas Caroling\n\nA few songs at the tree on Ronald Regan Blvd and then a processional down Warren\, Bay\, and Pine Avenues.\n\n\n\n\nThis event is free and open to the whole family. An optional donation to the Historic Society is appreciated. Join us for this unique inaugural event!\n\nPartners\n\nChrist Episcopal Church\nSanlando United Methodist Church\nCottage Gift Shop\nRotary Club of Longwood\n\n\nFlyer: https://bit.ly/3Qwyp8R
URL:https://historiclongwood.com/event/carols-cocoa-yuletide-in-historic-longwood/
LOCATION:Historic Civic Center\, 135 W Church Ave\, Longwood\, 32750\, United States
CATEGORIES:Community
ATTACH;FMTTYPE=image/png:https://historiclongwood.com/wp-content/uploads/2023/11/Carols-and-Cocoa.png
END:VEVENT
BEGIN:VEVENT
DTSTART;TZID=America/New_York:20231118T000000
DTEND;TZID=America/New_York:20231119T235959
DTSTAMP:20260422T053511
CREATED:20231118T234017Z
LAST-MODIFIED:20240530T000558Z
UID:1301-1700265600-1700438399@historiclongwood.com
SUMMARY:47th Annual Longwood Art Show
DESCRIPTION:
URL:https://historiclongwood.com/event/47th-annual-longwood-art-show/
LOCATION:Longwood Historic District\, 175 W Warren Ave\, Longwood\, FL\, 32750\, United States
CATEGORIES:Art Show,Community
ATTACH;FMTTYPE=image/jpeg:https://historiclongwood.com/wp-content/uploads/2023/11/Longwood-Art-Show-2023.jpg
END:VEVENT
BEGIN:VEVENT
DTSTART;TZID=America/New_York:20231111T160000
DTEND;TZID=America/New_York:20231111T200000
DTSTAMP:20260422T053511
CREATED:20231105T162105Z
LAST-MODIFIED:20231105T162253Z
UID:230-1699718400-1699732800@historiclongwood.com
SUMMARY:Car Show - November 2023
DESCRIPTION:Monthly car show in Historic Longwood. \nVolunteer
URL:https://historiclongwood.com/event/car-show-november-2023/
LOCATION:Historic Civic Center\, 135 W Church Ave\, Longwood\, 32750\, United States
CATEGORIES:Fundraisers
ATTACH;FMTTYPE=image/jpeg:https://historiclongwood.com/wp-content/uploads/2023/11/car-show.jpg
END:VEVENT
END:VCALENDAR