BEGIN:VCALENDAR
VERSION:2.0
PRODID:-//Longwood Historic Society - ECPv6.14.2//NONSGML v1.0//EN
CALSCALE:GREGORIAN
METHOD:PUBLISH
X-WR-CALNAME:Longwood Historic Society
X-ORIGINAL-URL:https://historiclongwood.com
X-WR-CALDESC:Events for Longwood Historic Society
REFRESH-INTERVAL;VALUE=DURATION:PT1H
X-Robots-Tag:noindex
X-PUBLISHED-TTL:PT1H
BEGIN:VTIMEZONE
TZID:America/New_York
BEGIN:DAYLIGHT
TZOFFSETFROM:-0500
TZOFFSETTO:-0400
TZNAME:EDT
DTSTART:20230312T070000
END:DAYLIGHT
BEGIN:STANDARD
TZOFFSETFROM:-0400
TZOFFSETTO:-0500
TZNAME:EST
DTSTART:20231105T060000
END:STANDARD
END:VTIMEZONE
BEGIN:VEVENT
DTSTART;TZID=America/New_York:20231209T160000
DTEND;TZID=America/New_York:20231209T200000
DTSTAMP:20260422T083459
CREATED:20231105T162207Z
LAST-MODIFIED:20231105T162244Z
UID:233-1702137600-1702152000@historiclongwood.com
SUMMARY:Car Show - December 2023
DESCRIPTION:Monthly car show in Historic Longwood. \nVolunteer
URL:https://historiclongwood.com/event/car-show-december-2023/
LOCATION:Historic Civic Center\, 135 W Church Ave\, Longwood\, 32750\, United States
CATEGORIES:Fundraisers
ATTACH;FMTTYPE=image/jpeg:https://historiclongwood.com/wp-content/uploads/2023/11/car-show.jpg
END:VEVENT
BEGIN:VEVENT
DTSTART;TZID=America/New_York:20231125T160000
DTEND;TZID=America/New_York:20231125T190000
DTSTAMP:20260422T083459
CREATED:20231112T145131Z
LAST-MODIFIED:20240530T000544Z
UID:1192-1700928000-1700938800@historiclongwood.com
SUMMARY:Carols & Cocoa: Yuletide in Historic Longwood
DESCRIPTION:Let’s kick off the holiday season in Historic Longwood. On our walking tour\, we will not only learn about our buildings from the 1800s but go inside! We will have a free hot cocoa and apple cider reception at the HCC\, followed by a lighting ceremony of the city’s new tree on 427. Finally\, we will cap the event with old-fashioned Christmas caroling to our neighbors in the Historic District.\n\nWalking tour stops will be at the Bradlee-McIntyre Museum\, Longwood Inn\, Inside-Outside House\, Historic Civic Center\, Henck House\, and Le Rue House\n\nSchedule\n\n\n4 PM – Historic “Open House” Guided Walking Tour.\n5 PM – Hot Cocoa and Apple Cider Reception\n5:30 PM – Tree Lighting Ceremony\n5:45 PM – Christmas Caroling\n\nA few songs at the tree on Ronald Regan Blvd and then a processional down Warren\, Bay\, and Pine Avenues.\n\n\n\n\nThis event is free and open to the whole family. An optional donation to the Historic Society is appreciated. Join us for this unique inaugural event!\n\nPartners\n\nChrist Episcopal Church\nSanlando United Methodist Church\nCottage Gift Shop\nRotary Club of Longwood\n\n\nFlyer: https://bit.ly/3Qwyp8R
URL:https://historiclongwood.com/event/carols-cocoa-yuletide-in-historic-longwood/
LOCATION:Historic Civic Center\, 135 W Church Ave\, Longwood\, 32750\, United States
CATEGORIES:Community
ATTACH;FMTTYPE=image/png:https://historiclongwood.com/wp-content/uploads/2023/11/Carols-and-Cocoa.png
END:VEVENT
BEGIN:VEVENT
DTSTART;TZID=America/New_York:20231118T000000
DTEND;TZID=America/New_York:20231119T235959
DTSTAMP:20260422T083459
CREATED:20231118T234017Z
LAST-MODIFIED:20240530T000558Z
UID:1301-1700265600-1700438399@historiclongwood.com
SUMMARY:47th Annual Longwood Art Show
DESCRIPTION:
URL:https://historiclongwood.com/event/47th-annual-longwood-art-show/
LOCATION:Longwood Historic District\, 175 W Warren Ave\, Longwood\, FL\, 32750\, United States
CATEGORIES:Art Show,Community
ATTACH;FMTTYPE=image/jpeg:https://historiclongwood.com/wp-content/uploads/2023/11/Longwood-Art-Show-2023.jpg
END:VEVENT
BEGIN:VEVENT
DTSTART;TZID=America/New_York:20231111T160000
DTEND;TZID=America/New_York:20231111T200000
DTSTAMP:20260422T083459
CREATED:20231105T162105Z
LAST-MODIFIED:20231105T162253Z
UID:230-1699718400-1699732800@historiclongwood.com
SUMMARY:Car Show - November 2023
DESCRIPTION:Monthly car show in Historic Longwood. \nVolunteer
URL:https://historiclongwood.com/event/car-show-november-2023/
LOCATION:Historic Civic Center\, 135 W Church Ave\, Longwood\, 32750\, United States
CATEGORIES:Fundraisers
ATTACH;FMTTYPE=image/jpeg:https://historiclongwood.com/wp-content/uploads/2023/11/car-show.jpg
END:VEVENT
END:VCALENDAR